BEGIN:VCALENDAR
VERSION:2.0
PRODID:-//HomeSight - ECPv6.15.20//NONSGML v1.0//EN
CALSCALE:GREGORIAN
METHOD:PUBLISH
X-WR-CALNAME:HomeSight
X-ORIGINAL-URL:https://homesightwa.org
X-WR-CALDESC:Events for HomeSight
REFRESH-INTERVAL;VALUE=DURATION:PT1H
X-Robots-Tag:noindex
X-PUBLISHED-TTL:PT1H
BEGIN:VTIMEZONE
TZID:America/Los_Angeles
BEGIN:DAYLIGHT
TZOFFSETFROM:-0800
TZOFFSETTO:-0700
TZNAME:PDT
DTSTART:20240310T100000
END:DAYLIGHT
BEGIN:STANDARD
TZOFFSETFROM:-0700
TZOFFSETTO:-0800
TZNAME:PST
DTSTART:20241103T090000
END:STANDARD
BEGIN:DAYLIGHT
TZOFFSETFROM:-0800
TZOFFSETTO:-0700
TZNAME:PDT
DTSTART:20250309T100000
END:DAYLIGHT
BEGIN:STANDARD
TZOFFSETFROM:-0700
TZOFFSETTO:-0800
TZNAME:PST
DTSTART:20251102T090000
END:STANDARD
BEGIN:DAYLIGHT
TZOFFSETFROM:-0800
TZOFFSETTO:-0700
TZNAME:PDT
DTSTART:20260308T100000
END:DAYLIGHT
BEGIN:STANDARD
TZOFFSETFROM:-0700
TZOFFSETTO:-0800
TZNAME:PST
DTSTART:20261101T090000
END:STANDARD
END:VTIMEZONE
BEGIN:VEVENT
DTSTART;TZID=America/Los_Angeles:20250430T183000
DTEND;TZID=America/Los_Angeles:20250430T193000
DTSTAMP:20260422T093711
CREATED:20250331T194512Z
LAST-MODIFIED:20250416T212603Z
UID:13071-1746037800-1746041400@homesightwa.org
SUMMARY:Discover Affordable Homeownership at U-lex: April Zoom Workshops
DESCRIPTION:Interested in owning your home at U-lex but have questions about the registration process? Join us for a free virtual Zoom workshop\, where our friendly staff will answer your questions about applying\, registration\, qualifications\, and the benefits of cooperative living at U-lex. We’ll guide you through every step—from your initial inquiry to becoming a homeowner. \nConveniently located near the Othello light rail station\, homes at U-lex are available to qualified applicants on a first-come\, first-served basis. Sign up by April 30\, 2025\, and we’ll cover up to $500 of each of your first two housing payments—that’s $1\,000 in total savings! Don’t miss this opportunity to live and invest in your community. \n \nCan’t attend this session? No worries! Our staff is eager to support you. Schedule an individual appointment—in-person or virtual—at a convenient time: \nRuby Rodriguez\n Community Outreach Counselor\n📞 (425) 547-3397 ext. 226\n✉️ Ruby@homesightwa.org \nPearl Nelson\n Assistant Project Manager\n📞 (206) 612-0609 (Cell)\n✉️ Pearl@homesightwa.org \nTake the first step toward homeownership—sign up today!
URL:https://homesightwa.org/upcoming-event/discover-affordable-homeownership-at-u-lex-april-zoom-workshops-3/
LOCATION:ZOOM
ATTACH;FMTTYPE=image/png:https://homesightwa.org/wp-content/uploads/2025/03/Ulex_Workshop_Flyer_V6.png
END:VEVENT
END:VCALENDAR