BEGIN:VCALENDAR
VERSION:2.0
PRODID:-//HomeSight - ECPv6.15.20//NONSGML v1.0//EN
CALSCALE:GREGORIAN
METHOD:PUBLISH
X-WR-CALNAME:HomeSight
X-ORIGINAL-URL:https://homesightwa.org
X-WR-CALDESC:Events for HomeSight
REFRESH-INTERVAL;VALUE=DURATION:PT1H
X-Robots-Tag:noindex
X-PUBLISHED-TTL:PT1H
BEGIN:VTIMEZONE
TZID:America/Los_Angeles
BEGIN:DAYLIGHT
TZOFFSETFROM:-0800
TZOFFSETTO:-0700
TZNAME:PDT
DTSTART:20240310T100000
END:DAYLIGHT
BEGIN:STANDARD
TZOFFSETFROM:-0700
TZOFFSETTO:-0800
TZNAME:PST
DTSTART:20241103T090000
END:STANDARD
BEGIN:DAYLIGHT
TZOFFSETFROM:-0800
TZOFFSETTO:-0700
TZNAME:PDT
DTSTART:20250309T100000
END:DAYLIGHT
BEGIN:STANDARD
TZOFFSETFROM:-0700
TZOFFSETTO:-0800
TZNAME:PST
DTSTART:20251102T090000
END:STANDARD
BEGIN:DAYLIGHT
TZOFFSETFROM:-0800
TZOFFSETTO:-0700
TZNAME:PDT
DTSTART:20260308T100000
END:DAYLIGHT
BEGIN:STANDARD
TZOFFSETFROM:-0700
TZOFFSETTO:-0800
TZNAME:PST
DTSTART:20261101T090000
END:STANDARD
END:VTIMEZONE
BEGIN:VEVENT
DTSTART;TZID=America/Los_Angeles:20250802T110000
DTEND;TZID=America/Los_Angeles:20250802T123000
DTSTAMP:20260422T141349
CREATED:20230604T190232Z
LAST-MODIFIED:20250715T223445Z
UID:5183-1754132400-1754137800@homesightwa.org
SUMMARY:Cultural Exchange Tour
DESCRIPTION:Be a tourist in your own town! Join HomeSight for FREE food and prizes as you explore the Othello community’s hidden gems and resources. (We mentioned free food\, right?) Register here! \n 
URL:https://homesightwa.org/upcoming-event/cultural-exchange-tour-2/
LOCATION:Homeownership Center\, 4219 S Othello St\, Ste 130-B\, Seattle\, 98118\, United States
ATTACH;FMTTYPE=image/jpeg:https://homesightwa.org/wp-content/uploads/2023/06/converted_image.jpg
END:VEVENT
END:VCALENDAR