BEGIN:VCALENDAR
VERSION:2.0
PRODID:-//HomeSight - ECPv6.15.20//NONSGML v1.0//EN
CALSCALE:GREGORIAN
METHOD:PUBLISH
X-WR-CALNAME:HomeSight
X-ORIGINAL-URL:https://homesightwa.org
X-WR-CALDESC:Events for HomeSight
REFRESH-INTERVAL;VALUE=DURATION:PT1H
X-Robots-Tag:noindex
X-PUBLISHED-TTL:PT1H
BEGIN:VTIMEZONE
TZID:America/Los_Angeles
BEGIN:DAYLIGHT
TZOFFSETFROM:-0800
TZOFFSETTO:-0700
TZNAME:PDT
DTSTART:20240310T100000
END:DAYLIGHT
BEGIN:STANDARD
TZOFFSETFROM:-0700
TZOFFSETTO:-0800
TZNAME:PST
DTSTART:20241103T090000
END:STANDARD
BEGIN:DAYLIGHT
TZOFFSETFROM:-0800
TZOFFSETTO:-0700
TZNAME:PDT
DTSTART:20250309T100000
END:DAYLIGHT
BEGIN:STANDARD
TZOFFSETFROM:-0700
TZOFFSETTO:-0800
TZNAME:PST
DTSTART:20251102T090000
END:STANDARD
BEGIN:DAYLIGHT
TZOFFSETFROM:-0800
TZOFFSETTO:-0700
TZNAME:PDT
DTSTART:20260308T100000
END:DAYLIGHT
BEGIN:STANDARD
TZOFFSETFROM:-0700
TZOFFSETTO:-0800
TZNAME:PST
DTSTART:20261101T090000
END:STANDARD
END:VTIMEZONE
BEGIN:VEVENT
DTSTART;TZID=America/Los_Angeles:20250818T183000
DTEND;TZID=America/Los_Angeles:20250818T193000
DTSTAMP:20260422T155315
CREATED:20250801T212845Z
LAST-MODIFIED:20260227T235037Z
UID:13696-1755541800-1755545400@homesightwa.org
SUMMARY:Discover Affordable Homeownership at U-lex: August Zoom Workshops
DESCRIPTION:Interested in owning your home at U-lex but have questions about the process? Join our free virtual Zoom workshop! Our staff will answer your questions about applying\, registration\, qualifications\, and the benefits of cooperative living near Othello Station. Homes at U-lex are available on a first-come\, first-served basis—don’t miss your chance to invest in your community. \n \nCan’t attend this session? No worries! Our staff is eager to support you. Schedule an individual appointment—in-person or virtual—at a convenient time: \nRuby Rodriguez\nCommunity Outreach Counselor\n(425) 547-3397 ext. 226\n✉️ Ruby@homesightwa.org \nPearl Nelson\nAssistant Project Manager\n(206) 612-0609 (Cell)\n✉️ Pearl@homesightwa.org \nTake the first step toward homeownership—sign up today!
URL:https://homesightwa.org/upcoming-event/discover-affordable-homeownership-at-u-lex-august-zoom-workshops-2/
LOCATION:ZOOM
END:VEVENT
BEGIN:VEVENT
DTSTART;TZID=America/Los_Angeles:20250818T183000
DTEND;TZID=America/Los_Angeles:20250818T193000
DTSTAMP:20260422T155315
CREATED:20250801T213552Z
LAST-MODIFIED:20260227T235115Z
UID:13702-1755541800-1755545400@homesightwa.org
SUMMARY:Discover Affordable Homeownership at U-lex: August Zoom Workshops
DESCRIPTION:Interested in owning your home at U-lex but have questions about the process? Join our free virtual Zoom workshop! Our staff will answer your questions about applying\, registration\, qualifications\, and the benefits of cooperative living near Othello Station. Homes at U-lex are available on a first-come\, first-served basis—don’t miss your chance to invest in your community. \n \nCan’t attend this session? No worries! Our staff is eager to support you. Schedule an individual appointment—in-person or virtual—at a convenient time: \nRuby Rodriguez\nCommunity Outreach Counselor\n(425) 547-3397 ext. 226\n✉️ Ruby@homesightwa.org \nPearl Nelson\nAssistant Project Manager\n(206) 612-0609 (Cell)\n✉️ Pearl@homesightwa.org \nTake the first step toward homeownership—sign up today!
URL:https://homesightwa.org/upcoming-event/discover-affordable-homeownership-at-u-lex-august-zoom-workshops-4/
LOCATION:ZOOM
END:VEVENT
END:VCALENDAR