BEGIN:VCALENDAR
VERSION:2.0
PRODID:-//HomeSight - ECPv6.15.20//NONSGML v1.0//EN
CALSCALE:GREGORIAN
METHOD:PUBLISH
X-WR-CALNAME:HomeSight
X-ORIGINAL-URL:https://homesightwa.org
X-WR-CALDESC:Events for HomeSight
REFRESH-INTERVAL;VALUE=DURATION:PT1H
X-Robots-Tag:noindex
X-PUBLISHED-TTL:PT1H
BEGIN:VTIMEZONE
TZID:America/Los_Angeles
BEGIN:DAYLIGHT
TZOFFSETFROM:-0800
TZOFFSETTO:-0700
TZNAME:PDT
DTSTART:20240310T100000
END:DAYLIGHT
BEGIN:STANDARD
TZOFFSETFROM:-0700
TZOFFSETTO:-0800
TZNAME:PST
DTSTART:20241103T090000
END:STANDARD
BEGIN:DAYLIGHT
TZOFFSETFROM:-0800
TZOFFSETTO:-0700
TZNAME:PDT
DTSTART:20250309T100000
END:DAYLIGHT
BEGIN:STANDARD
TZOFFSETFROM:-0700
TZOFFSETTO:-0800
TZNAME:PST
DTSTART:20251102T090000
END:STANDARD
BEGIN:DAYLIGHT
TZOFFSETFROM:-0800
TZOFFSETTO:-0700
TZNAME:PDT
DTSTART:20260308T100000
END:DAYLIGHT
BEGIN:STANDARD
TZOFFSETFROM:-0700
TZOFFSETTO:-0800
TZNAME:PST
DTSTART:20261101T090000
END:STANDARD
END:VTIMEZONE
BEGIN:VEVENT
DTSTART;TZID=America/Los_Angeles:20250918T183000
DTEND;TZID=America/Los_Angeles:20250918T193000
DTSTAMP:20260422T171945
CREATED:20250522T210749Z
LAST-MODIFIED:20260227T235247Z
UID:13469-1758220200-1758223800@homesightwa.org
SUMMARY:Discover Affordable Homeownership at U-lex: September Onsite Workshops at Othello–UW Commons
DESCRIPTION:Interested in homeownership at U-lex? Join our one-hour workshop at Othello–UW Commons (4200 S Othello St\, Suite 117\, Seattle\, WA 98118). Our staff will be available to discuss registration\, qualification requirements\, and any other questions you may have. \nConveniently located near Othello Station\, U-lex homes are available to qualified applicants on a first-come\, first-served basis. Don’t miss your chance to own and invest in your community. \nCan’t make this session? No worries! Schedule an individual appointment—in-person or virtual—at your convenience. Our staff is here to support you every step of the way. \nRuby Rodriguez\nCommunity Outreach Counselor\n (425) 547-3397 ext. 226\n Ruby@homesightwa.org \nPearl Nelson\nAssistant Project Manager\n (206) 612-0609 (Cell)\n Pearl@homesightwa.org \nTake the first step toward homeownership—sign up today!
URL:https://homesightwa.org/upcoming-event/discover-affordable-homeownership-at-u-lex-may-onsite-workshops-at-homesight-rainier-office-3-2-2-2-4/
LOCATION:Othello-UW Commons\, 4200 S Othello St\, Seattle\, WA\, 98118\, United States
END:VEVENT
END:VCALENDAR