BEGIN:VCALENDAR
VERSION:2.0
PRODID:-//HomeSight - ECPv6.15.20//NONSGML v1.0//EN
CALSCALE:GREGORIAN
METHOD:PUBLISH
X-ORIGINAL-URL:https://homesightwa.org
X-WR-CALDESC:Events for HomeSight
REFRESH-INTERVAL;VALUE=DURATION:PT1H
X-Robots-Tag:noindex
X-PUBLISHED-TTL:PT1H
BEGIN:VTIMEZONE
TZID:America/Los_Angeles
BEGIN:DAYLIGHT
TZOFFSETFROM:-0800
TZOFFSETTO:-0700
TZNAME:PDT
DTSTART:20250309T100000
END:DAYLIGHT
BEGIN:STANDARD
TZOFFSETFROM:-0700
TZOFFSETTO:-0800
TZNAME:PST
DTSTART:20251102T090000
END:STANDARD
BEGIN:DAYLIGHT
TZOFFSETFROM:-0800
TZOFFSETTO:-0700
TZNAME:PDT
DTSTART:20260308T100000
END:DAYLIGHT
BEGIN:STANDARD
TZOFFSETFROM:-0700
TZOFFSETTO:-0800
TZNAME:PST
DTSTART:20261101T090000
END:STANDARD
BEGIN:DAYLIGHT
TZOFFSETFROM:-0800
TZOFFSETTO:-0700
TZNAME:PDT
DTSTART:20270314T100000
END:DAYLIGHT
BEGIN:STANDARD
TZOFFSETFROM:-0700
TZOFFSETTO:-0800
TZNAME:PST
DTSTART:20271107T090000
END:STANDARD
END:VTIMEZONE
BEGIN:VEVENT
DTSTART;VALUE=DATE:20260320
DTEND;VALUE=DATE:20260413
DTSTAMP:20260423T070343
CREATED:20260311T194222Z
LAST-MODIFIED:20260311T194313Z
UID:14306-1773964800-1776038399@homesightwa.org
SUMMARY:Plate of Nations – Southeast Seattle Restaurant Week
DESCRIPTION:Plate of Nations is an annual celebration of Southeast Seattle’s diverse food scene. Participating neighborhood restaurants offer special menu items and experiences from around the world. \nDates: March 20 – April 12\, 2026Location: Participating restaurants throughout Southeast Seattle \nGrab your Plate of Nations Passport to start collecting stamps from participating restaurants: https://www.plateofnations.com/pon-passport/
URL:https://homesightwa.org/upcoming-event/plate-of-nations-southeast-seattle-restaurant-week/
ATTACH;FMTTYPE=image/png:https://homesightwa.org/wp-content/uploads/2026/03/Website_Art.png
END:VEVENT
END:VCALENDAR