BEGIN:VCALENDAR
VERSION:2.0
PRODID:-//HomeSight - ECPv6.15.20//NONSGML v1.0//EN
CALSCALE:GREGORIAN
METHOD:PUBLISH
X-WR-CALNAME:HomeSight
X-ORIGINAL-URL:https://homesightwa.org
X-WR-CALDESC:Events for HomeSight
REFRESH-INTERVAL;VALUE=DURATION:PT1H
X-Robots-Tag:noindex
X-PUBLISHED-TTL:PT1H
BEGIN:VTIMEZONE
TZID:America/Los_Angeles
BEGIN:DAYLIGHT
TZOFFSETFROM:-0800
TZOFFSETTO:-0700
TZNAME:PDT
DTSTART:20250309T100000
END:DAYLIGHT
BEGIN:STANDARD
TZOFFSETFROM:-0700
TZOFFSETTO:-0800
TZNAME:PST
DTSTART:20251102T090000
END:STANDARD
BEGIN:DAYLIGHT
TZOFFSETFROM:-0800
TZOFFSETTO:-0700
TZNAME:PDT
DTSTART:20260308T100000
END:DAYLIGHT
BEGIN:STANDARD
TZOFFSETFROM:-0700
TZOFFSETTO:-0800
TZNAME:PST
DTSTART:20261101T090000
END:STANDARD
BEGIN:DAYLIGHT
TZOFFSETFROM:-0800
TZOFFSETTO:-0700
TZNAME:PDT
DTSTART:20270314T100000
END:DAYLIGHT
BEGIN:STANDARD
TZOFFSETFROM:-0700
TZOFFSETTO:-0800
TZNAME:PST
DTSTART:20271107T090000
END:STANDARD
END:VTIMEZONE
BEGIN:VEVENT
DTSTART;TZID=America/Los_Angeles:20260219T170000
DTEND;TZID=America/Los_Angeles:20260219T180000
DTSTAMP:20260419T214116
CREATED:20260219T204156Z
LAST-MODIFIED:20260227T180856Z
UID:14195-1771520400-1771524000@homesightwa.org
SUMMARY:Discover Affordable Homeownership at U-lex: February Onsite Workshops at Othello UW Commons
DESCRIPTION:Interested in homeownership at U-lex? Join our one-hour workshop at Othello UW Commons (4200 S Othello St\, Suite 117\, Seattle\, WA 98118.) Our staff will be available to discuss registration\, qualification requirements\, and any other questions you may have. \nConveniently located near Othello Station\, U-lex homes are available to qualified applicants on a first-come\, first-served basis. Don’t miss your chance to own and invest in your community. \nCan’t make this session? No worries! Schedule an individual appointment—in-person or virtual—at your convenience. Our staff is here to support you every step of the way. \nRuby Rodriguez\nCommunity Outreach Counselor\n (425) 547-3397 ext. 226\n Ruby@homesightwa.org \nTake the first step toward homeownership—sign up today!
URL:https://homesightwa.org/upcoming-event/discover-affordable-homeownership-at-u-lex-february-onsite-workshops-at-othello-uw-commons/
LOCATION:Othello-UW Commons\, 4200 S Othello St\, Seattle\, WA\, 98118\, United States
ATTACH;FMTTYPE=image/png:https://homesightwa.org/wp-content/uploads/2025/09/ulex.png
END:VEVENT
BEGIN:VEVENT
DTSTART;TZID=America/Los_Angeles:20260226T160000
DTEND;TZID=America/Los_Angeles:20260226T170000
DTSTAMP:20260419T214116
CREATED:20260123T221759Z
LAST-MODIFIED:20260227T180812Z
UID:14130-1772121600-1772125200@homesightwa.org
SUMMARY:U-lex and WHRC Homebuyer Information Session
DESCRIPTION:Looking to stop renting and start owning in Seattle? Join the Washington Homeownership Resource Center (WHRC) and HomeSight for a free information session. Learn about the resources and services available to support first-time and aspiring homeowners in Washington and hear directly from HomeSight about affordable homeownership opportunities at U-lex Cooperative Housing.
URL:https://homesightwa.org/upcoming-event/u-lex-and-whrc-homebuyer-information-session-7/
LOCATION:ZOOM
ATTACH;FMTTYPE=image/png:https://homesightwa.org/wp-content/uploads/2025/09/ulex.png
END:VEVENT
BEGIN:VEVENT
DTSTART;TZID=America/Los_Angeles:20260318T120000
DTEND;TZID=America/Los_Angeles:20260318T130000
DTSTAMP:20260419T214116
CREATED:20260311T191124Z
LAST-MODIFIED:20260317T191257Z
UID:14299-1773835200-1773838800@homesightwa.org
SUMMARY:U-lex and WHRC Homebuyer Information Session
DESCRIPTION:Looking to stop renting and start owning in Seattle? Join the Washington Homeownership Resource Center (WHRC) and HomeSight for a free information session. Learn about the resources and services available to support first-time and aspiring homeowners in Washington and hear directly from HomeSight about affordable homeownership opportunities at U-lex Cooperative Housing.
URL:https://homesightwa.org/upcoming-event/u-lex-and-whrc-homebuyer-information-session-8/
LOCATION:ZOOM
ATTACH;FMTTYPE=image/png:https://homesightwa.org/wp-content/uploads/2026/03/Ulex-Workshops-Feb-ER-edits-4.png
END:VEVENT
BEGIN:VEVENT
DTSTART;VALUE=DATE:20260320
DTEND;VALUE=DATE:20260413
DTSTAMP:20260419T214116
CREATED:20260311T194222Z
LAST-MODIFIED:20260311T194313Z
UID:14306-1773964800-1776038399@homesightwa.org
SUMMARY:Plate of Nations – Southeast Seattle Restaurant Week
DESCRIPTION:Plate of Nations is an annual celebration of Southeast Seattle’s diverse food scene. Participating neighborhood restaurants offer special menu items and experiences from around the world. \nDates: March 20 – April 12\, 2026Location: Participating restaurants throughout Southeast Seattle \nGrab your Plate of Nations Passport to start collecting stamps from participating restaurants: https://www.plateofnations.com/pon-passport/
URL:https://homesightwa.org/upcoming-event/plate-of-nations-southeast-seattle-restaurant-week/
ATTACH;FMTTYPE=image/png:https://homesightwa.org/wp-content/uploads/2026/03/Website_Art.png
END:VEVENT
BEGIN:VEVENT
DTSTART;TZID=America/Los_Angeles:20260409T130000
DTEND;TZID=America/Los_Angeles:20260409T143000
DTSTAMP:20260419T214116
CREATED:20260311T191300Z
LAST-MODIFIED:20260317T192236Z
UID:14302-1775739600-1775745000@homesightwa.org
SUMMARY:U-lex and WHRC Homebuyer Information Session
DESCRIPTION:Looking to stop renting and start owning in Seattle? Join the Washington Homeownership Resource Center (WHRC) and HomeSight for a free information session. Learn about the resources and services available to support first-time and aspiring homeowners in Washington and hear directly from HomeSight about affordable homeownership opportunities at U-lex Cooperative Housing.
URL:https://homesightwa.org/upcoming-event/u-lex-and-whrc-homebuyer-information-session-9/
LOCATION:ZOOM
ATTACH;FMTTYPE=image/png:https://homesightwa.org/wp-content/uploads/2026/03/Ulex-Workshops-Feb-ER-edits-4.png
END:VEVENT
BEGIN:VEVENT
DTSTART;TZID=America/Los_Angeles:20260418T100000
DTEND;TZID=America/Los_Angeles:20260418T140000
DTSTAMP:20260419T214116
CREATED:20260414T231244Z
LAST-MODIFIED:20260414T231607Z
UID:14344-1776506400-1776520800@homesightwa.org
SUMMARY:Thurston County Homebuying Expo
DESCRIPTION:Thinking about becoming a homeowner? Join us at the Thurston County Homebuying Expo to learn about the resources\, programs\, and steps that can help make your dream a reality. \nThis free community event brings together housing experts\, local organizations\, and resource partners to provide guidance on the homebuying process. You’ll have access to workshops\, information tables\, and opportunities to connect directly with professionals who can support your journey. \nEvent details:Date: April 18\, 2026Time: 10:00 AM – 2:00 PMDoors open: 10:00 AMLocation: Olympia Center222 Columbia St NW\, Olympia\, WA \nWorkshop:Pathways to Homeownership11:30 AM – 1:00 PM \nCome learn about the tools and support available to help you move from renting to owning
URL:https://homesightwa.org/upcoming-event/thurston-county-homebuying-expo/
LOCATION:Olympia Center\, 222 Columbia St NW Olympia\, WA\, Olympia\, United States
ATTACH;FMTTYPE=application/pdf:https://homesightwa.org/wp-content/uploads/2026/04/Thurston-Co-Expo-2026-1.pdf
END:VEVENT
BEGIN:VEVENT
DTSTART;TZID=America/Los_Angeles:20260423T173000
DTEND;TZID=America/Los_Angeles:20260423T190000
DTSTAMP:20260419T214116
CREATED:20260317T193812Z
LAST-MODIFIED:20260317T193812Z
UID:14321-1776965400-1776970800@homesightwa.org
SUMMARY:U-lex and WHRC Homebuyer Information Session
DESCRIPTION:Looking to stop renting and start owning in Seattle? Join the Washington Homeownership Resource Center (WHRC) and HomeSight for a free information session. Learn about the resources and services available to support first-time and aspiring homeowners in Washington and hear directly from HomeSight about affordable homeownership opportunities at U-lex Cooperative Housing.
URL:https://homesightwa.org/upcoming-event/u-lex-and-whrc-homebuyer-information-session-11/
LOCATION:ZOOM
ATTACH;FMTTYPE=image/png:https://homesightwa.org/wp-content/uploads/2026/03/Ulex-Workshops-Feb-ER-edits-4.png
END:VEVENT
BEGIN:VEVENT
DTSTART;TZID=America/Los_Angeles:20260426T110000
DTEND;TZID=America/Los_Angeles:20260426T150000
DTSTAMP:20260419T214116
CREATED:20260414T225213Z
LAST-MODIFIED:20260414T225213Z
UID:14336-1777201200-1777215600@homesightwa.org
SUMMARY:Rainier View Homes Open House
DESCRIPTION:Join us for an open house at Rainier View Homes on April 26 from 11am to 3pm in South Seattle. This is a great opportunity to tour brand-new 2- and 3-bedroom model homes and learn more about affordable homeownership with HomeSight. \nExplore both layouts: \n\n3BR model home: 6013 S 127th Ln\, Seattle\, WA 98178\n2BR model home: 6012 S 127th Ln\, Seattle\, WA 98178\n\nThese certified 4-Star Built Green homes are designed for comfort and efficiency\, featuring: \n\nDetached homes with no shared walls\nTwo stories with dedicated workspace\nAir conditioning\nTwo parking stalls per home\nPrivate patios and rooftop decks\nBeautiful landscaping\nEasy access to downtown Seattle\, Bellevue\, Renton\, Sea-Tac Airport\, Boeing Field\, Lake Washington\, and Light Rail\n\nHomeSight housing counselors will be onsite to answer your questions and help you understand your path to homeownership. \nRefreshments will be provided\, plus goodie bags for kids.
URL:https://homesightwa.org/upcoming-event/rainier-view-homes-open-house/
LOCATION:Rainier View Homes\, 6013 S 127th Ln\, Seattle\, WA\, 98178\, United States
ATTACH;FMTTYPE=image/png:https://homesightwa.org/wp-content/uploads/2026/04/Rainier-Homes-Open-House-1.png
END:VEVENT
BEGIN:VEVENT
DTSTART;TZID=America/Los_Angeles:20260502T130000
DTEND;TZID=America/Los_Angeles:20260502T150000
DTSTAMP:20260419T214116
CREATED:20260414T230006Z
LAST-MODIFIED:20260414T230006Z
UID:14340-1777726800-1777734000@homesightwa.org
SUMMARY:Free Community Event: From Renting to Owning
DESCRIPTION:Join HomeSight\, SEED\, and the Washington State Housing Finance Commission for a free community event focused on affordable homeownership. This session is designed to help you understand the steps to owning a home and building generational wealth. \nYou’ll have the chance to connect with housing professionals\, ask questions\, and learn about resources available to support you on your path to homeownership. Light refreshments will be provided. \nWho should attend:Anyone interested in learning how to transition from renting to owning and build long-term financial stability. \nEvent details:Date: Saturday\, May 2Time: 1:00 PM – 3:00 PMLocation: Rainier Court – Spokane Community Room3616 34th Ave S\, Seattle\, WA 98144 \nCost: Free \nRSVP:Moussa Samb – moussa@homesightwa.orgorQuiana Harris – qharris@seedseattle.org
URL:https://homesightwa.org/upcoming-event/free-community-event-from-renting-to-owning/
LOCATION:Rainier Court 3616 34th Ave S. Seattle\, WA 98144 Spokane Community Room\, Rainier Court 3616 34th Ave S. Seattle\, WA 98144 Spokane Community Room\, Seattle\, WA\, 98144
ATTACH;FMTTYPE=image/png:https://homesightwa.org/wp-content/uploads/2026/04/May-2026-Event-Flyer-English.png
END:VEVENT
BEGIN:VEVENT
DTSTART;TZID=America/Los_Angeles:20260513T170000
DTEND;TZID=America/Los_Angeles:20260513T183000
DTSTAMP:20260419T214116
CREATED:20260317T193653Z
LAST-MODIFIED:20260317T193653Z
UID:14319-1778691600-1778697000@homesightwa.org
SUMMARY:U-lex and WHRC Homebuyer Information Session
DESCRIPTION:Looking to stop renting and start owning in Seattle? Join the Washington Homeownership Resource Center (WHRC) and HomeSight for a free information session. Learn about the resources and services available to support first-time and aspiring homeowners in Washington and hear directly from HomeSight about affordable homeownership opportunities at U-lex Cooperative Housing.
URL:https://homesightwa.org/upcoming-event/u-lex-and-whrc-homebuyer-information-session-10/
LOCATION:ZOOM
ATTACH;FMTTYPE=image/png:https://homesightwa.org/wp-content/uploads/2026/03/Ulex-Workshops-Feb-ER-edits-4.png
END:VEVENT
BEGIN:VEVENT
DTSTART;TZID=America/Los_Angeles:20260528T120000
DTEND;TZID=America/Los_Angeles:20260528T133000
DTSTAMP:20260419T214116
CREATED:20260317T193929Z
LAST-MODIFIED:20260317T193929Z
UID:14323-1779969600-1779975000@homesightwa.org
SUMMARY:U-lex and WHRC Homebuyer Information Session
DESCRIPTION:Looking to stop renting and start owning in Seattle? Join the Washington Homeownership Resource Center (WHRC) and HomeSight for a free information session. Learn about the resources and services available to support first-time and aspiring homeowners in Washington and hear directly from HomeSight about affordable homeownership opportunities at U-lex Cooperative Housing.
URL:https://homesightwa.org/upcoming-event/u-lex-and-whrc-homebuyer-information-session-12/
LOCATION:ZOOM
ATTACH;FMTTYPE=image/png:https://homesightwa.org/wp-content/uploads/2026/03/Ulex-Workshops-Feb-ER-edits-4.png
END:VEVENT
BEGIN:VEVENT
DTSTART;TZID=America/Los_Angeles:20260627T130000
DTEND;TZID=America/Los_Angeles:20260627T160000
DTSTAMP:20260419T214116
CREATED:20260126T231307Z
LAST-MODIFIED:20260311T191654Z
UID:14031-1782565200-1782576000@homesightwa.org
SUMMARY:Journaling for Prosperity: Your mindful guide to homeownership.
DESCRIPTION:Join us for a deep dive into the world of journaling\, where we’ll explore how putting pen to paper can lead you down the path to homeownersh \n\nJournaling for Prosperity: A mindful guide to homeownership\, helping you turn your vision into actionable steps. Includes daily techniques to save money and make it work for you.
URL:https://homesightwa.org/upcoming-event/journaling-for-prosperity-your-mindful-guide-to-homeownership/
LOCATION:Othello-UW Commons\, 4200 S Othello St\, Seattle\, WA\, 98118\, United States
ATTACH;FMTTYPE=image/webp:https://homesightwa.org/wp-content/uploads/2026/01/image.webp
END:VEVENT
END:VCALENDAR