BEGIN:VCALENDAR
VERSION:2.0
PRODID:-//HomeSight - ECPv6.15.20//NONSGML v1.0//EN
CALSCALE:GREGORIAN
METHOD:PUBLISH
X-ORIGINAL-URL:https://homesightwa.org
X-WR-CALDESC:Events for HomeSight
REFRESH-INTERVAL;VALUE=DURATION:PT1H
X-Robots-Tag:noindex
X-PUBLISHED-TTL:PT1H
BEGIN:VTIMEZONE
TZID:America/Los_Angeles
BEGIN:DAYLIGHT
TZOFFSETFROM:-0800
TZOFFSETTO:-0700
TZNAME:PDT
DTSTART:20240310T100000
END:DAYLIGHT
BEGIN:STANDARD
TZOFFSETFROM:-0700
TZOFFSETTO:-0800
TZNAME:PST
DTSTART:20241103T090000
END:STANDARD
BEGIN:DAYLIGHT
TZOFFSETFROM:-0800
TZOFFSETTO:-0700
TZNAME:PDT
DTSTART:20250309T100000
END:DAYLIGHT
BEGIN:STANDARD
TZOFFSETFROM:-0700
TZOFFSETTO:-0800
TZNAME:PST
DTSTART:20251102T090000
END:STANDARD
BEGIN:DAYLIGHT
TZOFFSETFROM:-0800
TZOFFSETTO:-0700
TZNAME:PDT
DTSTART:20260308T100000
END:DAYLIGHT
BEGIN:STANDARD
TZOFFSETFROM:-0700
TZOFFSETTO:-0800
TZNAME:PST
DTSTART:20261101T090000
END:STANDARD
END:VTIMEZONE
BEGIN:VEVENT
DTSTART;TZID=America/Los_Angeles:20250508T183000
DTEND;TZID=America/Los_Angeles:20250508T193000
DTSTAMP:20260422T094003
CREATED:20250501T182814Z
LAST-MODIFIED:20250501T182814Z
UID:13314-1746729000-1746732600@homesightwa.org
SUMMARY:Discover Affordable Housing at U-lex: May Workshops at Community Roots Housing
DESCRIPTION:Interested in owning your home at U-lex but have questions about the process? Join us for a one-hour\, in-person workshop at the Community Roots Pike/Pine Community Room (1620 12th Avenue\, Suite 206\, Seattle\, WA). Our team will guide you through applying\, registration\, qualifications\, and the benefits of U-lex co-op living\, conveniently located near the Othello light rail station. Homes are available to qualified applicants on a first-come\, first-served basis. \n \nCan’t attend this session? No worries! Our staff is here to support you—schedule an individual appointment (in-person or virtual) at your convenience. \nRuby Rodriguez\n Community Outreach Counselor\n📞 (425) 547-3397 ext. 226\n✉️ Ruby@homesightwa.org \nPearl Nelson\n Assistant Project Manager\n📞 (206) 612-0609 (Cell)\n✉️ Pearl@homesightwa.org \n 
URL:https://homesightwa.org/upcoming-event/discover-affordable-housing-at-u-lex-may-workshops-at-community-roots-housing/
LOCATION:Community Roots Housing\, 1620 12th Avenue\, Suite 206\, Seattle\, WA\, 98122\, United States
ATTACH;FMTTYPE=image/png:https://homesightwa.org/wp-content/uploads/2025/05/U-lex-May-Flyer-draft-v2.png
END:VEVENT
BEGIN:VEVENT
DTSTART;TZID=America/Los_Angeles:20250514T123000
DTEND;TZID=America/Los_Angeles:20250514T160000
DTSTAMP:20260422T094003
CREATED:20250501T181636Z
LAST-MODIFIED:20250501T183107Z
UID:13304-1747225800-1747238400@homesightwa.org
SUMMARY:Discover Affordable Housing at U-lex: Skyway Resource Fair Information Booth
DESCRIPTION:Interested in homeownership at U-lex? Join HomeSight at the Skyway Resource Fair on May 14\, 2025! Visit our table to learn about the application process\, qualifications\, and benefits of co-op living near Othello Station. Homes are available on a first-come\, first-served basis. \n \nCan’t attend? No worries! Schedule an individual appointment—in-person or virtual—at your convenience. \nRuby Rodriguez\n Community Outreach Counselor\n📞 (425) 547-3397 ext. 226\n✉️ Ruby@homesightwa.org \nPearl Nelson\n Assistant Project Manager\n📞 (206) 612-0609 (Cell)\n✉️ Pearl@homesightwa.org \nTake the first step toward homeownership—sign up today!
URL:https://homesightwa.org/upcoming-event/discover-affordable-housing-at-u-lex-skyway-resource-fair-information-booth/
LOCATION:Skyway Resource Fair\, 12601 76th Ave S\, Seattle\, Washington\, 98178\, United States
ATTACH;FMTTYPE=image/png:https://homesightwa.org/wp-content/uploads/2025/05/U-lex-May-Flyer-draft-v2.png
END:VEVENT
BEGIN:VEVENT
DTSTART;TZID=America/Los_Angeles:20250515T130000
DTEND;TZID=America/Los_Angeles:20250515T170000
DTSTAMP:20260422T094003
CREATED:20250512T173314Z
LAST-MODIFIED:20250512T174248Z
UID:13347-1747314000-1747328400@homesightwa.org
SUMMARY:HomeSight U-Lex Document Days @ Rainier Office
DESCRIPTION:Need help organizing your homebuying paperwork? HomeSight’s interactive Document Days are designed especially for U-Lex customers and prospective homebuyers. Bring your financial documents—we’ll help you create PDFs\, securely upload files to the Homebuyer Portal\, and complete your homebuyer profile. \nLocation: HomeSight\, 5117 Rainier Avenue S\, Seattle\, WA 98118\nRSVP or Questions: pearl@homesightwa.org \nWalk-ins welcome! \n \n 
URL:https://homesightwa.org/upcoming-event/homesight-u-lex-document-days-rainier-office/
LOCATION:HomeSight Rainier Valley Office\, 5117 Rainier Avenue S\, Seattle\, 98118\, United States
ATTACH;FMTTYPE=image/png:https://homesightwa.org/wp-content/uploads/2025/05/Document-Days30.png
END:VEVENT
BEGIN:VEVENT
DTSTART;TZID=America/Los_Angeles:20250516T130000
DTEND;TZID=America/Los_Angeles:20250516T170000
DTSTAMP:20260422T094003
CREATED:20250512T173525Z
LAST-MODIFIED:20250512T173525Z
UID:13351-1747400400-1747414800@homesightwa.org
SUMMARY:HomeSight U-Lex Document Days @ Rainier Office
DESCRIPTION:Need help organizing your homebuying paperwork? HomeSight’s interactive Document Days are designed especially for U-Lex customers and prospective homebuyers. Bring your financial documents—we’ll help you create PDFs\, securely upload files to the Homebuyer Portal\, and complete your homebuyer profile. \nLocation: HomeSight\, 5117 Rainier Avenue S\, Seattle\, WA 98118\nRSVP or Questions: pearl@homesightwa.org \nWalk-ins welcome! \n \n 
URL:https://homesightwa.org/upcoming-event/homesight-u-lex-document-days-rainier-office-2/
LOCATION:HomeSight Rainier Valley Office\, 5117 Rainier Avenue S\, Seattle\, 98118\, United States
ATTACH;FMTTYPE=image/png:https://homesightwa.org/wp-content/uploads/2025/05/Document-Days30.png
END:VEVENT
BEGIN:VEVENT
DTSTART;TZID=America/Los_Angeles:20250517T113000
DTEND;TZID=America/Los_Angeles:20250517T143000
DTSTAMP:20260422T094003
CREATED:20250501T182438Z
LAST-MODIFIED:20250501T182438Z
UID:13312-1747481400-1747492200@homesightwa.org
SUMMARY:Discover Affordable Housing at U-lex: Tukwila Resource Fair Info Booth
DESCRIPTION:Interested in homeownership at U-lex? Join HomeSight at the Tukwila  Resource Fair on May 17\, 2025! Visit our table to learn about the application process\, qualifications\, and benefits of co-op living near Othello Station. Homes are available on a first-come\, first-served basis. \n \nCan’t attend? No worries! Schedule an individual appointment—in-person or virtual—at your convenience. \nRuby Rodriguez\n Community Outreach Counselor\n📞 (425) 547-3397 ext. 226\n✉️ Ruby@homesightwa.org \nPearl Nelson\n Assistant Project Manager\n📞 (206) 612-0609 (Cell)\n✉️ Pearl@homesightwa.org \nTake the first step toward homeownership—sign up today!
URL:https://homesightwa.org/upcoming-event/discover-affordable-housing-at-u-lex-tukwila-resource-fair-info-booth/
LOCATION:Tukwila Resource Fair\, 14380 Tukwila International Boulevard\, Tukwila\, WA\, 98168\, United States
ATTACH;FMTTYPE=image/png:https://homesightwa.org/wp-content/uploads/2025/05/U-lex-May-Flyer-draft-v2.png
END:VEVENT
BEGIN:VEVENT
DTSTART;TZID=America/Los_Angeles:20250519T130000
DTEND;TZID=America/Los_Angeles:20250519T170000
DTSTAMP:20260422T094003
CREATED:20250512T173836Z
LAST-MODIFIED:20250512T173937Z
UID:13353-1747659600-1747674000@homesightwa.org
SUMMARY:HomeSight U-Lex Document Days @ Rainier Office
DESCRIPTION:Need help organizing your homebuying paperwork? HomeSight’s interactive Document Days are designed especially for U-Lex customers and prospective homebuyers. Bring your financial documents—we’ll help you create PDFs\, securely upload files to the Homebuyer Portal\, and complete your homebuyer profile. \nLocation: HomeSight\, 5117 Rainier Avenue S\, Seattle\, WA 98118\nRSVP or Questions: pearl@homesightwa.org \nWalk-ins welcome!
URL:https://homesightwa.org/upcoming-event/homesight-u-lex-document-days-rainier-office-3/
LOCATION:HomeSight Rainier Valley Office\, 5117 Rainier Avenue S\, Seattle\, 98118\, United States
ATTACH;FMTTYPE=image/png:https://homesightwa.org/wp-content/uploads/2025/05/Document-Days30.png
END:VEVENT
END:VCALENDAR