BEGIN:VCALENDAR
VERSION:2.0
PRODID:-//HomeSight - ECPv6.15.20//NONSGML v1.0//EN
CALSCALE:GREGORIAN
METHOD:PUBLISH
X-ORIGINAL-URL:https://homesightwa.org
X-WR-CALDESC:Events for HomeSight
REFRESH-INTERVAL;VALUE=DURATION:PT1H
X-Robots-Tag:noindex
X-PUBLISHED-TTL:PT1H
BEGIN:VTIMEZONE
TZID:America/Los_Angeles
BEGIN:DAYLIGHT
TZOFFSETFROM:-0800
TZOFFSETTO:-0700
TZNAME:PDT
DTSTART:20240310T100000
END:DAYLIGHT
BEGIN:STANDARD
TZOFFSETFROM:-0700
TZOFFSETTO:-0800
TZNAME:PST
DTSTART:20241103T090000
END:STANDARD
BEGIN:DAYLIGHT
TZOFFSETFROM:-0800
TZOFFSETTO:-0700
TZNAME:PDT
DTSTART:20250309T100000
END:DAYLIGHT
BEGIN:STANDARD
TZOFFSETFROM:-0700
TZOFFSETTO:-0800
TZNAME:PST
DTSTART:20251102T090000
END:STANDARD
BEGIN:DAYLIGHT
TZOFFSETFROM:-0800
TZOFFSETTO:-0700
TZNAME:PDT
DTSTART:20260308T100000
END:DAYLIGHT
BEGIN:STANDARD
TZOFFSETFROM:-0700
TZOFFSETTO:-0800
TZNAME:PST
DTSTART:20261101T090000
END:STANDARD
END:VTIMEZONE
BEGIN:VEVENT
DTSTART;TZID=America/Los_Angeles:20250707T183000
DTEND;TZID=America/Los_Angeles:20250707T193000
DTSTAMP:20260422T124551
CREATED:20250416T234015Z
LAST-MODIFIED:20260227T235339Z
UID:13236-1751913000-1751916600@homesightwa.org
SUMMARY:Discover Affordable Homeownership at U-lex: July Zoom Homebuyer Workshops
DESCRIPTION:Interested in owning your home at U-lex but have questions about the process? Join our free virtual Zoom workshop! Our staff will answer your questions about applying\, registration\, qualifications\, and the benefits of cooperative living near Othello Station. Homes at U-lex are available on a first-come\, first-served basis—don’t miss your chance to invest in your community.\n\n\n\nCan’t attend this session? No worries! Our staff is eager to support you. Schedule an individual appointment—in-person or virtual—at a convenient time:\n\nRuby Rodriguez\nCommunity Outreach Counselor\n📞 (425) 547-3397 ext. 226\n✉️ Ruby@homesightwa.org\n\nPearl Nelson\nAssistant Project Manager\n📞 (206) 612-0609 (Cell)\n✉️ Pearl@homesightwa.org\nTake the first step toward homeownership—sign up today!
URL:https://homesightwa.org/upcoming-event/discover-affordable-homeownership-at-u-lex-may-onsite-workshops-at-homesight-rainier-office-2-2/
LOCATION:ZOOM
END:VEVENT
BEGIN:VEVENT
DTSTART;TZID=America/Los_Angeles:20250712T110000
DTEND;TZID=America/Los_Angeles:20250712T123000
DTSTAMP:20260422T124551
CREATED:20240509T184344Z
LAST-MODIFIED:20250611T183928Z
UID:11010-1752318000-1752323400@homesightwa.org
SUMMARY:Cultural Exchange Tour
DESCRIPTION:Be a tourist in your own town! Join HomeSight for FREE food and prizes as you explore the Othello community’s hidden gems and resources. (We mentioned free food\, right?) Register here!
URL:https://homesightwa.org/upcoming-event/cultural-exchange-tour/
LOCATION:Homeownership Center\, 4219 S Othello St\, Ste 130-B\, Seattle\, 98118\, United States
ATTACH;FMTTYPE=image/jpeg:https://homesightwa.org/wp-content/uploads/2024/05/converted_image_2.jpg
END:VEVENT
BEGIN:VEVENT
DTSTART;TZID=America/Los_Angeles:20250721T183000
DTEND;TZID=America/Los_Angeles:20250721T193000
DTSTAMP:20260422T124551
CREATED:20250416T234634Z
LAST-MODIFIED:20260227T235414Z
UID:13242-1753122600-1753126200@homesightwa.org
SUMMARY:Discover Affordable Homeownership at U-lex: July  Zoom Homebuyer Workshops
DESCRIPTION:Interested in owning your home at U-lex but have questions about the process? Join our free virtual Zoom workshop! Our staff will answer your questions about applying\, registration\, qualifications\, and the benefits of cooperative living near Othello Station. Homes at U-lex are available on a first-come\, first-served basis—don’t miss your chance to invest in your community. \n \nCan’t attend this session? No worries! Our staff is eager to support you. Schedule an individual appointment—in-person or virtual—at a convenient time: \nRuby Rodriguez\n Community Outreach Counselor\n📞 (425) 547-3397 ext. 226\n✉️ Ruby@homesightwa.org \nPearl Nelson\n Assistant Project Manager\n📞 (206) 612-0609 (Cell)\n✉️ Pearl@homesightwa.org \nTake the first step toward homeownership—sign up today!
URL:https://homesightwa.org/upcoming-event/discover-affordable-homeownership-at-u-lex-may-zoom-homebuyer-workshops-2-2/
LOCATION:ZOOM
END:VEVENT
BEGIN:VEVENT
DTSTART;TZID=America/Los_Angeles:20250724T183000
DTEND;TZID=America/Los_Angeles:20250724T193000
DTSTAMP:20260422T124551
CREATED:20250416T233331Z
LAST-MODIFIED:20260227T234644Z
UID:13234-1753381800-1753385400@homesightwa.org
SUMMARY:Discover Affordable Homeownership at U-lex: July Onsite Workshops at HomeSight Rainier Office
DESCRIPTION:Interested in homeownership at U-lex? Join our one-hour workshop at HomeSight’s Rainier office (📍5117 Rainier Ave South\, Seattle). Our staff will be available to discuss registration\, qualification requirements\, and any other questions you may have. \nConveniently located near Othello Station\, U-lex homes are available to qualified applicants on a first-come\, first-served basis. Don’t miss your chance to own and invest in your community. \nCan’t make this session? No worries! Schedule an individual appointment—in-person or virtual—at your convenience. Our staff is here to support you every step of the way. \nRuby Rodriguez\n Community Outreach Counselor\n📞 (425) 547-3397 ext. 226\n✉️ Ruby@homesightwa.org \nPearl Nelson\n Assistant Project Manager\n📞 (206) 612-0609 (Cell)\n✉️ Pearl@homesightwa.org \nTake the first step toward homeownership—sign up today!
URL:https://homesightwa.org/upcoming-event/discover-affordable-homeownership-at-u-lex-may-onsite-workshops-at-homesight-rainier-office/
LOCATION:HomeSight Rainier Valley Office\, 5117 Rainier Avenue S\, Seattle\, 98118\, United States
END:VEVENT
END:VCALENDAR