BEGIN:VCALENDAR
VERSION:2.0
PRODID:-//HomeSight - ECPv6.15.20//NONSGML v1.0//EN
CALSCALE:GREGORIAN
METHOD:PUBLISH
X-ORIGINAL-URL:https://homesightwa.org
X-WR-CALDESC:Events for HomeSight
REFRESH-INTERVAL;VALUE=DURATION:PT1H
X-Robots-Tag:noindex
X-PUBLISHED-TTL:PT1H
BEGIN:VTIMEZONE
TZID:America/Los_Angeles
BEGIN:DAYLIGHT
TZOFFSETFROM:-0800
TZOFFSETTO:-0700
TZNAME:PDT
DTSTART:20250309T100000
END:DAYLIGHT
BEGIN:STANDARD
TZOFFSETFROM:-0700
TZOFFSETTO:-0800
TZNAME:PST
DTSTART:20251102T090000
END:STANDARD
BEGIN:DAYLIGHT
TZOFFSETFROM:-0800
TZOFFSETTO:-0700
TZNAME:PDT
DTSTART:20260308T100000
END:DAYLIGHT
BEGIN:STANDARD
TZOFFSETFROM:-0700
TZOFFSETTO:-0800
TZNAME:PST
DTSTART:20261101T090000
END:STANDARD
BEGIN:DAYLIGHT
TZOFFSETFROM:-0800
TZOFFSETTO:-0700
TZNAME:PDT
DTSTART:20270314T100000
END:DAYLIGHT
BEGIN:STANDARD
TZOFFSETFROM:-0700
TZOFFSETTO:-0800
TZNAME:PST
DTSTART:20271107T090000
END:STANDARD
END:VTIMEZONE
BEGIN:VEVENT
DTSTART;TZID=America/Los_Angeles:20260423T173000
DTEND;TZID=America/Los_Angeles:20260423T190000
DTSTAMP:20260423T070837
CREATED:20260317T193812Z
LAST-MODIFIED:20260317T193812Z
UID:14321-1776965400-1776970800@homesightwa.org
SUMMARY:U-lex and WHRC Homebuyer Information Session
DESCRIPTION:Looking to stop renting and start owning in Seattle? Join the Washington Homeownership Resource Center (WHRC) and HomeSight for a free information session. Learn about the resources and services available to support first-time and aspiring homeowners in Washington and hear directly from HomeSight about affordable homeownership opportunities at U-lex Cooperative Housing.
URL:https://homesightwa.org/upcoming-event/u-lex-and-whrc-homebuyer-information-session-11/
LOCATION:ZOOM
ATTACH;FMTTYPE=image/png:https://homesightwa.org/wp-content/uploads/2026/03/Ulex-Workshops-Feb-ER-edits-4.png
END:VEVENT
BEGIN:VEVENT
DTSTART;TZID=America/Los_Angeles:20260426T110000
DTEND;TZID=America/Los_Angeles:20260426T150000
DTSTAMP:20260423T070837
CREATED:20260414T225213Z
LAST-MODIFIED:20260414T225213Z
UID:14336-1777201200-1777215600@homesightwa.org
SUMMARY:Rainier View Homes Open House
DESCRIPTION:Join us for an open house at Rainier View Homes on April 26 from 11am to 3pm in South Seattle. This is a great opportunity to tour brand-new 2- and 3-bedroom model homes and learn more about affordable homeownership with HomeSight. \nExplore both layouts: \n\n3BR model home: 6013 S 127th Ln\, Seattle\, WA 98178\n2BR model home: 6012 S 127th Ln\, Seattle\, WA 98178\n\nThese certified 4-Star Built Green homes are designed for comfort and efficiency\, featuring: \n\nDetached homes with no shared walls\nTwo stories with dedicated workspace\nAir conditioning\nTwo parking stalls per home\nPrivate patios and rooftop decks\nBeautiful landscaping\nEasy access to downtown Seattle\, Bellevue\, Renton\, Sea-Tac Airport\, Boeing Field\, Lake Washington\, and Light Rail\n\nHomeSight housing counselors will be onsite to answer your questions and help you understand your path to homeownership. \nRefreshments will be provided\, plus goodie bags for kids.
URL:https://homesightwa.org/upcoming-event/rainier-view-homes-open-house/
LOCATION:Rainier View Homes\, 6013 S 127th Ln\, Seattle\, WA\, 98178\, United States
ATTACH;FMTTYPE=image/png:https://homesightwa.org/wp-content/uploads/2026/04/Rainier-Homes-Open-House-1.png
END:VEVENT
END:VCALENDAR